BEGIN:VCALENDAR
VERSION:2.0
PRODID:-//sebbo.net//ical-generator//EN
NAME:Daily Baby Name
X-WR-CALNAME:Daily Baby Name
BEGIN:VEVENT
UID:687a0ae9-4c28-428f-b404-4e45a39d885e
SEQUENCE:0
DTSTAMP:20260423T213301Z
DTSTART;VALUE=DATE:20260423
DTEND;VALUE=DATE:20260423
X-MICROSOFT-CDO-ALLDAYEVENT:TRUE
X-MICROSOFT-MSNCALENDAR-ALLDAYEVENT:TRUE
SUMMARY:👶 name: Roderick
TRANSP:TRANSPARENT
DESCRIPTION:Roderick (M)\nSimilar: Rodrigo | Rodrick | Broderick | Broderi
 ck\n2020 Rank: 1\,605\n2019 Rank: 1\,339\n2018 Rank: 1\,360\n
STATUS:CONFIRMED
END:VEVENT
END:VCALENDAR